BEGIN:VCALENDAR
VERSION:2.0
PRODID:-//Delta Access Online School - ECPv6.15.15//NONSGML v1.0//EN
CALSCALE:GREGORIAN
METHOD:PUBLISH
X-ORIGINAL-URL:https://www.deltaaccess.ca
X-WR-CALDESC:Events for Delta Access Online School
REFRESH-INTERVAL;VALUE=DURATION:PT1H
X-Robots-Tag:noindex
X-PUBLISHED-TTL:PT1H
BEGIN:VTIMEZONE
TZID:America/Los_Angeles
BEGIN:DAYLIGHT
TZOFFSETFROM:-0800
TZOFFSETTO:-0700
TZNAME:PDT
DTSTART:20160313T100000
END:DAYLIGHT
BEGIN:STANDARD
TZOFFSETFROM:-0700
TZOFFSETTO:-0800
TZNAME:PST
DTSTART:20161106T090000
END:STANDARD
BEGIN:DAYLIGHT
TZOFFSETFROM:-0800
TZOFFSETTO:-0700
TZNAME:PDT
DTSTART:20170312T100000
END:DAYLIGHT
BEGIN:STANDARD
TZOFFSETFROM:-0700
TZOFFSETTO:-0800
TZNAME:PST
DTSTART:20171105T090000
END:STANDARD
BEGIN:DAYLIGHT
TZOFFSETFROM:-0800
TZOFFSETTO:-0700
TZNAME:PDT
DTSTART:20180311T100000
END:DAYLIGHT
BEGIN:STANDARD
TZOFFSETFROM:-0700
TZOFFSETTO:-0800
TZNAME:PST
DTSTART:20181104T090000
END:STANDARD
END:VTIMEZONE
BEGIN:VEVENT
DTSTART;TZID=America/Los_Angeles:20170901T090000
DTEND;TZID=America/Los_Angeles:20170901T090000
DTSTAMP:20260421T032033
CREATED:20170601T180639Z
LAST-MODIFIED:20170601T180639Z
UID:1998-1504256400-1504256400@www.deltaaccess.ca
SUMMARY:Fall 2017 Registration Opens
DESCRIPTION:Our Fall 2017 Registration system opens Sep 1\, 2017.  Please visit our registration page for information.\nRegistration
URL:https://www.deltaaccess.ca/event/fall-2017-registration-opens-2/
END:VEVENT
BEGIN:VEVENT
DTSTART;VALUE=DATE:20170915
DTEND;VALUE=DATE:20170916
DTSTAMP:20260421T032033
CREATED:20170908T152614Z
LAST-MODIFIED:20170908T152614Z
UID:2005-1505433600-1505519999@www.deltaaccess.ca
SUMMARY:Official beginning of FALL 2017 Course
DESCRIPTION:Although registrations are being processed already\, testing centres and teachers will start course work on Sep 15th.  Courses may change before then so viewing is fine but starting work may be problematic
URL:https://www.deltaaccess.ca/event/official-beginning-of-fall-2017-course-2/
END:VEVENT
END:VCALENDAR