BEGIN:VCALENDAR
VERSION:2.0
PRODID:-//Delta Access Online School - ECPv6.15.15//NONSGML v1.0//EN
CALSCALE:GREGORIAN
METHOD:PUBLISH
X-ORIGINAL-URL:https://www.deltaaccess.ca
X-WR-CALDESC:Events for Delta Access Online School
REFRESH-INTERVAL;VALUE=DURATION:PT1H
X-Robots-Tag:noindex
X-PUBLISHED-TTL:PT1H
BEGIN:VTIMEZONE
TZID:America/Los_Angeles
BEGIN:DAYLIGHT
TZOFFSETFROM:-0800
TZOFFSETTO:-0700
TZNAME:PDT
DTSTART:20160313T100000
END:DAYLIGHT
BEGIN:STANDARD
TZOFFSETFROM:-0700
TZOFFSETTO:-0800
TZNAME:PST
DTSTART:20161106T090000
END:STANDARD
BEGIN:DAYLIGHT
TZOFFSETFROM:-0800
TZOFFSETTO:-0700
TZNAME:PDT
DTSTART:20170312T100000
END:DAYLIGHT
BEGIN:STANDARD
TZOFFSETFROM:-0700
TZOFFSETTO:-0800
TZNAME:PST
DTSTART:20171105T090000
END:STANDARD
BEGIN:DAYLIGHT
TZOFFSETFROM:-0800
TZOFFSETTO:-0700
TZNAME:PDT
DTSTART:20180311T100000
END:DAYLIGHT
BEGIN:STANDARD
TZOFFSETFROM:-0700
TZOFFSETTO:-0800
TZNAME:PST
DTSTART:20181104T090000
END:STANDARD
END:VTIMEZONE
BEGIN:VEVENT
DTSTART;TZID=America/Los_Angeles:20170515T160000
DTEND;TZID=America/Los_Angeles:20170515T160000
DTSTAMP:20260421T095018
CREATED:20170512T184339Z
LAST-MODIFIED:20170512T184339Z
UID:1984-1494864000-1494864000@www.deltaaccess.ca
SUMMARY:Final Day to Withdraw from Fall Courses
DESCRIPTION:May 15th is our final day to withdraw from Fall courses.  Withdrawal from a course will result in losing any tuition or deposits collected.  If you are a claimed and “active” student with us you will not be able to take the same course with us for one full year or until Sep 2018.  Withdrawal requests should be done through your teacher and you can ask them of your current “active” status.  Normally completion of the 1st unit is when students are claimed.  Any requests after the 15th will not be honoured so students will continue in the course and receive a grade in June.
URL:https://www.deltaaccess.ca/event/final-day-to-withdraw-for-fall-courses-2/
END:VEVENT
BEGIN:VEVENT
DTSTART;VALUE=DATE:20170522
DTEND;VALUE=DATE:20170523
DTSTAMP:20260421T095018
CREATED:20170210T183937Z
LAST-MODIFIED:20170210T183937Z
UID:1968-1495411200-1495497599@www.deltaaccess.ca
SUMMARY:Victoria Day (closed)
DESCRIPTION:
URL:https://www.deltaaccess.ca/event/victoria-day-closed-2/
LOCATION:Delta Access Office\, 11447 82 Ave (Portable 2)\, Delta\, BC\, Canada
END:VEVENT
BEGIN:VEVENT
DTSTART;TZID=America/Los_Angeles:20170524T030000
DTEND;TZID=America/Los_Angeles:20170524T160000
DTSTAMP:20260421T095018
CREATED:20170419T203012Z
LAST-MODIFIED:20170419T203012Z
UID:1973-1495594800-1495641600@www.deltaaccess.ca
SUMMARY:SDSS Testing Centre Open
DESCRIPTION:link to book a test
URL:https://www.deltaaccess.ca/event/sdss-testing-centre-open-2-2/
LOCATION:South Delta Secondary\, 750 53 St \, Delta\, BC\, V4M 3B7\, Canada
END:VEVENT
BEGIN:VEVENT
DTSTART;VALUE=DATE:20170525
DTEND;VALUE=DATE:20170526
DTSTAMP:20260421T095018
CREATED:20170501T212500Z
LAST-MODIFIED:20170501T212500Z
UID:1983-1495670400-1495756799@www.deltaaccess.ca
SUMMARY:Final Day for Completion Mark Requests for UVic entrance
DESCRIPTION:This is the final day students need to complete courses and make completion mark entry requests to their teachers for UVic admission.  More in on this is located on our University Eligibility and Deadlines page.
URL:https://www.deltaaccess.ca/event/final-day-for-completion-mark-requests-for-uvic-entrance-2/
END:VEVENT
BEGIN:VEVENT
DTSTART;TZID=America/Los_Angeles:20170529T150000
DTEND;TZID=America/Los_Angeles:20170529T170000
DTSTAMP:20260421T095018
CREATED:20170420T164950Z
LAST-MODIFIED:20170420T164950Z
UID:1979-1496070000-1496077200@www.deltaaccess.ca
SUMMARY:DSS Testing Centre Open
DESCRIPTION:link to book test
URL:https://www.deltaaccess.ca/event/dss-testing-centre-open-3-2/
LOCATION:Delta Secondary (LAC room)\, 4615 51 St\, Delta\, BC\, V4K 2V8\, Canada
END:VEVENT
BEGIN:VEVENT
DTSTART;TZID=America/Los_Angeles:20170531T150000
DTEND;TZID=America/Los_Angeles:20170531T160000
DTSTAMP:20260421T095018
CREATED:20170209T232307Z
LAST-MODIFIED:20170209T232307Z
UID:1963-1496242800-1496246400@www.deltaaccess.ca
SUMMARY:SDSS Testing Centre Open
DESCRIPTION:Link to book a test
URL:https://www.deltaaccess.ca/event/sdss-testing-centre-open-2017-03-15-2017-05-24-2/
END:VEVENT
END:VCALENDAR