BEGIN:VCALENDAR
VERSION:2.0
PRODID:-//Delta Access Online School - ECPv6.15.15//NONSGML v1.0//EN
CALSCALE:GREGORIAN
METHOD:PUBLISH
X-WR-CALNAME:Delta Access Online School
X-ORIGINAL-URL:https://www.deltaaccess.ca
X-WR-CALDESC:Events for Delta Access Online School
REFRESH-INTERVAL;VALUE=DURATION:PT1H
X-Robots-Tag:noindex
X-PUBLISHED-TTL:PT1H
BEGIN:VTIMEZONE
TZID:America/Los_Angeles
BEGIN:DAYLIGHT
TZOFFSETFROM:-0800
TZOFFSETTO:-0700
TZNAME:PDT
DTSTART:20160313T100000
END:DAYLIGHT
BEGIN:STANDARD
TZOFFSETFROM:-0700
TZOFFSETTO:-0800
TZNAME:PST
DTSTART:20161106T090000
END:STANDARD
BEGIN:DAYLIGHT
TZOFFSETFROM:-0800
TZOFFSETTO:-0700
TZNAME:PDT
DTSTART:20170312T100000
END:DAYLIGHT
BEGIN:STANDARD
TZOFFSETFROM:-0700
TZOFFSETTO:-0800
TZNAME:PST
DTSTART:20171105T090000
END:STANDARD
BEGIN:DAYLIGHT
TZOFFSETFROM:-0800
TZOFFSETTO:-0700
TZNAME:PDT
DTSTART:20180311T100000
END:DAYLIGHT
BEGIN:STANDARD
TZOFFSETFROM:-0700
TZOFFSETTO:-0800
TZNAME:PST
DTSTART:20181104T090000
END:STANDARD
END:VTIMEZONE
BEGIN:VEVENT
DTSTART;VALUE=DATE:20170415
DTEND;VALUE=DATE:20170416
DTSTAMP:20260421T113657
CREATED:20170210T183759Z
LAST-MODIFIED:20170210T183759Z
UID:1967-1492214400-1492300799@www.deltaaccess.ca
SUMMARY:Good Friday (closed)
DESCRIPTION:
URL:https://www.deltaaccess.ca/event/good-friday-closed-2/
LOCATION:Delta Access Office\, 11447 82 Ave (Portable 2)\, Delta\, BC\, Canada
END:VEVENT
BEGIN:VEVENT
DTSTART;VALUE=DATE:20170417
DTEND;VALUE=DATE:20170418
DTSTAMP:20260421T113657
CREATED:20170210T183435Z
LAST-MODIFIED:20170210T183435Z
UID:1960-1492387200-1492473599@www.deltaaccess.ca
SUMMARY:Easter Monday (closed)
DESCRIPTION:
URL:https://www.deltaaccess.ca/event/easter-monday-closed-2/
LOCATION:Delta Access Office\, 11447 82 Ave (Portable 2)\, Delta\, BC\, Canada
END:VEVENT
END:VCALENDAR