BEGIN:VCALENDAR
VERSION:2.0
PRODID:-//Delta Access Online School - ECPv6.15.15//NONSGML v1.0//EN
CALSCALE:GREGORIAN
METHOD:PUBLISH
X-ORIGINAL-URL:https://www.deltaaccess.ca
X-WR-CALDESC:Events for Delta Access Online School
REFRESH-INTERVAL;VALUE=DURATION:PT1H
X-Robots-Tag:noindex
X-PUBLISHED-TTL:PT1H
BEGIN:VTIMEZONE
TZID:America/Los_Angeles
BEGIN:DAYLIGHT
TZOFFSETFROM:-0800
TZOFFSETTO:-0700
TZNAME:PDT
DTSTART:20160313T100000
END:DAYLIGHT
BEGIN:STANDARD
TZOFFSETFROM:-0700
TZOFFSETTO:-0800
TZNAME:PST
DTSTART:20161106T090000
END:STANDARD
BEGIN:DAYLIGHT
TZOFFSETFROM:-0800
TZOFFSETTO:-0700
TZNAME:PDT
DTSTART:20170312T100000
END:DAYLIGHT
BEGIN:STANDARD
TZOFFSETFROM:-0700
TZOFFSETTO:-0800
TZNAME:PST
DTSTART:20171105T090000
END:STANDARD
BEGIN:DAYLIGHT
TZOFFSETFROM:-0800
TZOFFSETTO:-0700
TZNAME:PDT
DTSTART:20180311T100000
END:DAYLIGHT
BEGIN:STANDARD
TZOFFSETFROM:-0700
TZOFFSETTO:-0800
TZNAME:PST
DTSTART:20181104T090000
END:STANDARD
END:VTIMEZONE
BEGIN:VEVENT
DTSTART;TZID=America/Los_Angeles:20170616T235500
DTEND;TZID=America/Los_Angeles:20170616T235500
DTSTAMP:20260421T094838
CREATED:20170210T200558Z
LAST-MODIFIED:20170210T200558Z
UID:1969-1497657300-1497657300@www.deltaaccess.ca
SUMMARY:Final Cut off for Fall Semester (Sep-Jun)
DESCRIPTION:Teachers in individual courses may modify slightly but all courses end Jun 16th for final reports
URL:https://www.deltaaccess.ca/event/final-cut-off-for-fall-semester-sep-jun-2/
LOCATION:Delta Access Office\, 11447 82 Ave (Portable 2)\, Delta\, BC\, Canada
END:VEVENT
END:VCALENDAR