BEGIN:VCALENDAR
VERSION:2.0
PRODID:-//Delta Access Online School - ECPv6.15.15//NONSGML v1.0//EN
CALSCALE:GREGORIAN
METHOD:PUBLISH
X-ORIGINAL-URL:https://www.deltaaccess.ca
X-WR-CALDESC:Events for Delta Access Online School
REFRESH-INTERVAL;VALUE=DURATION:PT1H
X-Robots-Tag:noindex
X-PUBLISHED-TTL:PT1H
BEGIN:VTIMEZONE
TZID:America/Los_Angeles
BEGIN:DAYLIGHT
TZOFFSETFROM:-0800
TZOFFSETTO:-0700
TZNAME:PDT
DTSTART:20160313T100000
END:DAYLIGHT
BEGIN:STANDARD
TZOFFSETFROM:-0700
TZOFFSETTO:-0800
TZNAME:PST
DTSTART:20161106T090000
END:STANDARD
BEGIN:DAYLIGHT
TZOFFSETFROM:-0800
TZOFFSETTO:-0700
TZNAME:PDT
DTSTART:20170312T100000
END:DAYLIGHT
BEGIN:STANDARD
TZOFFSETFROM:-0700
TZOFFSETTO:-0800
TZNAME:PST
DTSTART:20171105T090000
END:STANDARD
BEGIN:DAYLIGHT
TZOFFSETFROM:-0800
TZOFFSETTO:-0700
TZNAME:PDT
DTSTART:20180311T100000
END:DAYLIGHT
BEGIN:STANDARD
TZOFFSETFROM:-0700
TZOFFSETTO:-0800
TZNAME:PST
DTSTART:20181104T090000
END:STANDARD
END:VTIMEZONE
BEGIN:VEVENT
DTSTART;TZID=America/Los_Angeles:20170608T030000
DTEND;TZID=America/Los_Angeles:20170608T160000
DTSTAMP:20260421T094800
CREATED:20170419T203939Z
LAST-MODIFIED:20170419T203939Z
UID:1974-1496890800-1496937600@www.deltaaccess.ca
SUMMARY:SDSS Testing Centre Open
DESCRIPTION:link to book a test
URL:https://www.deltaaccess.ca/event/sdss-testing-centre-open-3-2/
LOCATION:South Delta Secondary\, 750 53 St \, Delta\, BC\, V4M 3B7\, Canada
END:VEVENT
BEGIN:VEVENT
DTSTART;TZID=America/Los_Angeles:20170608T120000
DTEND;TZID=America/Los_Angeles:20170608T190000
DTSTAMP:20260421T094800
CREATED:20170210T182849Z
LAST-MODIFIED:20170210T182849Z
UID:1964-1496923200-1496948400@www.deltaaccess.ca
SUMMARY:North Delta Testing Centre Open
DESCRIPTION:Link to book a testing time
URL:https://www.deltaaccess.ca/event/north-delta-testing-centre-open-2-2017-06-01-2/
LOCATION:Delta Access Office\, 11447 82 Ave (Portable 2)\, Delta\, BC\, Canada
END:VEVENT
END:VCALENDAR