BEGIN:VCALENDAR
VERSION:2.0
PRODID:-//Delta Access Online School - ECPv6.15.15//NONSGML v1.0//EN
CALSCALE:GREGORIAN
METHOD:PUBLISH
X-WR-CALNAME:Delta Access Online School
X-ORIGINAL-URL:https://www.deltaaccess.ca
X-WR-CALDESC:Events for Delta Access Online School
REFRESH-INTERVAL;VALUE=DURATION:PT1H
X-Robots-Tag:noindex
X-PUBLISHED-TTL:PT1H
BEGIN:VTIMEZONE
TZID:America/Los_Angeles
BEGIN:DAYLIGHT
TZOFFSETFROM:-0800
TZOFFSETTO:-0700
TZNAME:PDT
DTSTART:20160313T100000
END:DAYLIGHT
BEGIN:STANDARD
TZOFFSETFROM:-0700
TZOFFSETTO:-0800
TZNAME:PST
DTSTART:20161106T090000
END:STANDARD
BEGIN:DAYLIGHT
TZOFFSETFROM:-0800
TZOFFSETTO:-0700
TZNAME:PDT
DTSTART:20170312T100000
END:DAYLIGHT
BEGIN:STANDARD
TZOFFSETFROM:-0700
TZOFFSETTO:-0800
TZNAME:PST
DTSTART:20171105T090000
END:STANDARD
BEGIN:DAYLIGHT
TZOFFSETFROM:-0800
TZOFFSETTO:-0700
TZNAME:PDT
DTSTART:20180311T100000
END:DAYLIGHT
BEGIN:STANDARD
TZOFFSETFROM:-0700
TZOFFSETTO:-0800
TZNAME:PST
DTSTART:20181104T090000
END:STANDARD
END:VTIMEZONE
BEGIN:VEVENT
DTSTART;VALUE=DATE:20170525
DTEND;VALUE=DATE:20170526
DTSTAMP:20260421T113625
CREATED:20170501T212500Z
LAST-MODIFIED:20170501T212500Z
UID:1983-1495670400-1495756799@www.deltaaccess.ca
SUMMARY:Final Day for Completion Mark Requests for UVic entrance
DESCRIPTION:This is the final day students need to complete courses and make completion mark entry requests to their teachers for UVic admission.  More in on this is located on our University Eligibility and Deadlines page.
URL:https://www.deltaaccess.ca/event/final-day-for-completion-mark-requests-for-uvic-entrance-2/
END:VEVENT
END:VCALENDAR