BEGIN:VCALENDAR
VERSION:2.0
PRODID:-//Delta Access Online School - ECPv6.15.15//NONSGML v1.0//EN
CALSCALE:GREGORIAN
METHOD:PUBLISH
X-WR-CALNAME:Delta Access Online School
X-ORIGINAL-URL:https://www.deltaaccess.ca
X-WR-CALDESC:Events for Delta Access Online School
REFRESH-INTERVAL;VALUE=DURATION:PT1H
X-Robots-Tag:noindex
X-PUBLISHED-TTL:PT1H
BEGIN:VTIMEZONE
TZID:UTC
BEGIN:STANDARD
TZOFFSETFROM:+0000
TZOFFSETTO:+0000
TZNAME:UTC
DTSTART:20160101T000000
END:STANDARD
END:VTIMEZONE
BEGIN:VEVENT
DTSTART;VALUE=DATE:20170303
DTEND;VALUE=DATE:20170304
DTSTAMP:20260421T152544
CREATED:20170209T055755Z
LAST-MODIFIED:20170209T055755Z
UID:1951-1488499200-1488585599@www.deltaaccess.ca
SUMMARY:Term 2 Cut Off
DESCRIPTION:Our Term 2 cut off is March 3rd for report card entry.  Report cards will be available through teacher connect on March 9/10th
URL:https://www.deltaaccess.ca/event/term-2-cutt-off-2/
END:VEVENT
END:VCALENDAR